BEGIN:VCALENDAR
VERSION:2.0
PRODID:-//Liskeard Council - ECPv6.15.18//NONSGML v1.0//EN
CALSCALE:GREGORIAN
METHOD:PUBLISH
X-WR-CALNAME:Liskeard Council
X-ORIGINAL-URL:https://www.liskeard.gov.uk
X-WR-CALDESC:Events for Liskeard Council
REFRESH-INTERVAL;VALUE=DURATION:PT1H
X-Robots-Tag:noindex
X-PUBLISHED-TTL:PT1H
BEGIN:VTIMEZONE
TZID:Europe/London
BEGIN:DAYLIGHT
TZOFFSETFROM:+0000
TZOFFSETTO:+0100
TZNAME:BST
DTSTART:20190331T010000
END:DAYLIGHT
BEGIN:STANDARD
TZOFFSETFROM:+0100
TZOFFSETTO:+0000
TZNAME:GMT
DTSTART:20191027T010000
END:STANDARD
BEGIN:DAYLIGHT
TZOFFSETFROM:+0000
TZOFFSETTO:+0100
TZNAME:BST
DTSTART:20200329T010000
END:DAYLIGHT
BEGIN:STANDARD
TZOFFSETFROM:+0100
TZOFFSETTO:+0000
TZNAME:GMT
DTSTART:20201025T010000
END:STANDARD
BEGIN:DAYLIGHT
TZOFFSETFROM:+0000
TZOFFSETTO:+0100
TZNAME:BST
DTSTART:20210328T010000
END:DAYLIGHT
BEGIN:STANDARD
TZOFFSETFROM:+0100
TZOFFSETTO:+0000
TZNAME:GMT
DTSTART:20211031T010000
END:STANDARD
END:VTIMEZONE
BEGIN:VEVENT
DTSTART;VALUE=DATE:20200713
DTEND;VALUE=DATE:20200714
DTSTAMP:20260419T205243
CREATED:20200113T153528Z
LAST-MODIFIED:20200709T130727Z
UID:8338-1594598400-1594684799@www.liskeard.gov.uk
SUMMARY:Planning Committee Electronic Consultation
DESCRIPTION:Virtual meeting of email consultation. \nThe agenda for the electronic consultation will appear online the week before the Committee.  View the Planning process document with the agenda for how the public can submit comments on applications.
URL:https://www.liskeard.gov.uk/event/planning-committee-29-copy-3/
LOCATION:virtual meeting of email consultation
ORGANIZER;CN="Yvette Hayward%2C Deputy Town Clerk & RFO":MAILTO:office1@liskeard.gov.uk
END:VEVENT
BEGIN:VEVENT
DTSTART;TZID=Europe/London:20200714T193000
DTEND;TZID=Europe/London:20200714T220000
DTSTAMP:20260419T205243
CREATED:20200113T162028Z
LAST-MODIFIED:20200709T121357Z
UID:8347-1594755000-1594764000@www.liskeard.gov.uk
SUMMARY:Communications and Engagement Committee cancelled
DESCRIPTION:The agenda will be online the week before the meeting.
URL:https://www.liskeard.gov.uk/event/communications-and-engagement-committee-5-3/
LOCATION:Council Chamber at the Public Hall\, 3-5 West Street\, Liskeard\, PL14 6BW
ORGANIZER;CN="Yvette Hayward%2C Deputy Town Clerk & RFO":MAILTO:office1@liskeard.gov.uk
END:VEVENT
BEGIN:VEVENT
DTSTART;VALUE=DATE:20200721
DTEND;VALUE=DATE:20200722
DTSTAMP:20260419T205243
CREATED:20200113T162713Z
LAST-MODIFIED:20200709T131638Z
UID:8351-1595289600-1595375999@www.liskeard.gov.uk
SUMMARY:Facilities Committee - Cancelled
DESCRIPTION:The agenda will be online the week before the meeting.
URL:https://www.liskeard.gov.uk/event/facilities-committee-15-3/
LOCATION:Council Chamber at the Public Hall\, 3-5 West Street\, Liskeard\, PL14 6BW
ORGANIZER;CN="Jacqui Orange%2C Facilities Manager":MAILTO:facilities@liskeard.gov.uk
END:VEVENT
BEGIN:VEVENT
DTSTART;TZID=Europe/London:20200728T193000
DTEND;TZID=Europe/London:20200728T220000
DTSTAMP:20260419T205243
CREATED:20200113T163156Z
LAST-MODIFIED:20200709T132654Z
UID:8354-1595964600-1595973600@www.liskeard.gov.uk
SUMMARY:Full Town Council Virtual Meeting
DESCRIPTION:The agenda will be online the week before the meeting. \nThis will be a virtual meeting and members of the public can contact us for a link to view/join the meeting.
URL:https://www.liskeard.gov.uk/event/finance-economic-development-and-general-purposes-committee-5-3/
LOCATION:Virtual Meeting
ORGANIZER;CN="Steve Vinson%2C Town Clerk":MAILTO:townclerk@liskeard.gov.uk
END:VEVENT
END:VCALENDAR