BEGIN:VCALENDAR
VERSION:2.0
PRODID:-//Liskeard Council - ECPv6.15.18//NONSGML v1.0//EN
CALSCALE:GREGORIAN
METHOD:PUBLISH
X-ORIGINAL-URL:https://www.liskeard.gov.uk
X-WR-CALDESC:Events for Liskeard Council
REFRESH-INTERVAL;VALUE=DURATION:PT1H
X-Robots-Tag:noindex
X-PUBLISHED-TTL:PT1H
BEGIN:VTIMEZONE
TZID:Europe/London
BEGIN:DAYLIGHT
TZOFFSETFROM:+0000
TZOFFSETTO:+0100
TZNAME:BST
DTSTART:20180325T010000
END:DAYLIGHT
BEGIN:STANDARD
TZOFFSETFROM:+0100
TZOFFSETTO:+0000
TZNAME:GMT
DTSTART:20181028T010000
END:STANDARD
BEGIN:DAYLIGHT
TZOFFSETFROM:+0000
TZOFFSETTO:+0100
TZNAME:BST
DTSTART:20190331T010000
END:DAYLIGHT
BEGIN:STANDARD
TZOFFSETFROM:+0100
TZOFFSETTO:+0000
TZNAME:GMT
DTSTART:20191027T010000
END:STANDARD
BEGIN:DAYLIGHT
TZOFFSETFROM:+0000
TZOFFSETTO:+0100
TZNAME:BST
DTSTART:20200329T010000
END:DAYLIGHT
BEGIN:STANDARD
TZOFFSETFROM:+0100
TZOFFSETTO:+0000
TZNAME:GMT
DTSTART:20201025T010000
END:STANDARD
END:VTIMEZONE
BEGIN:VEVENT
DTSTART;TZID=Europe/London:20190701T193000
DTEND;TZID=Europe/London:20190701T213000
DTSTAMP:20260420T174046
CREATED:20190522T113237Z
LAST-MODIFIED:20190522T113545Z
UID:7108-1562009400-1562016600@www.liskeard.gov.uk
SUMMARY:Planning Committee
DESCRIPTION:Please refer to the agenda to check the time and location details as they may be subject to change.
URL:https://www.liskeard.gov.uk/event/planning-committee-13/
LOCATION:Council Chamber at the Public Hall\, 3-5 West Street\, Liskeard\, PL14 6BW
END:VEVENT
BEGIN:VEVENT
DTSTART;TZID=Europe/London:20190702T193000
DTEND;TZID=Europe/London:20190702T213000
DTSTAMP:20260420T174046
CREATED:20190522T113923Z
LAST-MODIFIED:20190522T113923Z
UID:7110-1562095800-1562103000@www.liskeard.gov.uk
SUMMARY:Communications and Engagement Committee
DESCRIPTION:Please refer to the agenda to check the time and location details as they may be subject to change.
URL:https://www.liskeard.gov.uk/event/communications-and-engagement-committee/
LOCATION:Council Chamber at the Public Hall\, 3-5 West Street\, Liskeard\, PL14 6BW
END:VEVENT
BEGIN:VEVENT
DTSTART;TZID=Europe/London:20190709T193000
DTEND;TZID=Europe/London:20190709T213000
DTSTAMP:20260420T174046
CREATED:20190522T114402Z
LAST-MODIFIED:20190522T114402Z
UID:7112-1562700600-1562707800@www.liskeard.gov.uk
SUMMARY:Facilities Committee
DESCRIPTION:Please refer to the agenda to check the time and location details as they may be subject to change.
URL:https://www.liskeard.gov.uk/event/facilities-committee-10/
LOCATION:Council Chamber at the Public Hall\, 3-5 West Street\, Liskeard\, PL14 6BW
END:VEVENT
BEGIN:VEVENT
DTSTART;TZID=Europe/London:20190717T193000
DTEND;TZID=Europe/London:20190717T213000
DTSTAMP:20260420T174046
CREATED:20190702T100629Z
LAST-MODIFIED:20190715T082728Z
UID:7418-1563391800-1563399000@www.liskeard.gov.uk
SUMMARY:CANCELLED - Liskeard Town Forum
DESCRIPTION:This meeting has been cancelled due to lack of business to be transacted.
URL:https://www.liskeard.gov.uk/event/liskeard-town-forum-2/
LOCATION:The Public Hall\, 3-5 West Street\, Liskeard\, PL14 6BW\, United Kingdom
ORGANIZER;CN="Liskeard Town Forum":MAILTO:info@liskeardforum.org.uk
END:VEVENT
BEGIN:VEVENT
DTSTART;TZID=Europe/London:20190722T193000
DTEND;TZID=Europe/London:20190722T213000
DTSTAMP:20260420T174046
CREATED:20190522T114851Z
LAST-MODIFIED:20190522T114851Z
UID:7114-1563823800-1563831000@www.liskeard.gov.uk
SUMMARY:Planning Committee
DESCRIPTION:Please refer to the agenda to check the time and location details as they may be subject to change.
URL:https://www.liskeard.gov.uk/event/planning-committee-14/
LOCATION:Council Chamber at the Public Hall\, 3-5 West Street\, Liskeard\, PL14 6BW
ORGANIZER;CN="Yvette Hayward%2C Deputy Town Clerk & RFO":MAILTO:office1@liskeard.gov.uk
END:VEVENT
BEGIN:VEVENT
DTSTART;TZID=Europe/London:20190723T073000
DTEND;TZID=Europe/London:20190723T213000
DTSTAMP:20260420T174046
CREATED:20190522T115149Z
LAST-MODIFIED:20190522T115149Z
UID:7116-1563867000-1563917400@www.liskeard.gov.uk
SUMMARY:Finance\, Economic Development & General Purposes Committee
DESCRIPTION:Please refer to the agenda to check the time and location details as they may be subject to change.
URL:https://www.liskeard.gov.uk/event/finance-economic-development-general-purposes-committee/
LOCATION:Council Chamber at the Public Hall\, 3-5 West Street\, Liskeard\, PL14 6BW
ORGANIZER;CN="Steve Vinson%2C Town Clerk":MAILTO:townclerk@liskeard.gov.uk
END:VEVENT
END:VCALENDAR