BEGIN:VCALENDAR
VERSION:2.0
PRODID:-//Liskeard Council - ECPv6.15.18//NONSGML v1.0//EN
CALSCALE:GREGORIAN
METHOD:PUBLISH
X-ORIGINAL-URL:https://www.liskeard.gov.uk
X-WR-CALDESC:Events for Liskeard Council
REFRESH-INTERVAL;VALUE=DURATION:PT1H
X-Robots-Tag:noindex
X-PUBLISHED-TTL:PT1H
BEGIN:VTIMEZONE
TZID:Europe/London
BEGIN:DAYLIGHT
TZOFFSETFROM:+0000
TZOFFSETTO:+0100
TZNAME:BST
DTSTART:20170326T010000
END:DAYLIGHT
BEGIN:STANDARD
TZOFFSETFROM:+0100
TZOFFSETTO:+0000
TZNAME:GMT
DTSTART:20171029T010000
END:STANDARD
BEGIN:DAYLIGHT
TZOFFSETFROM:+0000
TZOFFSETTO:+0100
TZNAME:BST
DTSTART:20180325T010000
END:DAYLIGHT
BEGIN:STANDARD
TZOFFSETFROM:+0100
TZOFFSETTO:+0000
TZNAME:GMT
DTSTART:20181028T010000
END:STANDARD
BEGIN:DAYLIGHT
TZOFFSETFROM:+0000
TZOFFSETTO:+0100
TZNAME:BST
DTSTART:20190331T010000
END:DAYLIGHT
BEGIN:STANDARD
TZOFFSETFROM:+0100
TZOFFSETTO:+0000
TZNAME:GMT
DTSTART:20191027T010000
END:STANDARD
END:VTIMEZONE
BEGIN:VEVENT
DTSTART;TZID=Europe/London:20181106T193000
DTEND;TZID=Europe/London:20181106T210000
DTSTAMP:20260421T071550
CREATED:20180104T110832Z
LAST-MODIFIED:20180104T110918Z
UID:4697-1541532600-1541538000@www.liskeard.gov.uk
SUMMARY:Communication & Engagement Committee
DESCRIPTION:
URL:https://www.liskeard.gov.uk/event/communications-engagement-committee-4/
LOCATION:Emily Hobhouse Room at the Public Hall\, 3-5 West Street\, Liskeard\, PL14 6BW
ORGANIZER;CN="Yvette Hayward%2C Deputy Town Clerk & RFO":MAILTO:office1@liskeard.gov.uk
END:VEVENT
BEGIN:VEVENT
DTSTART;TZID=Europe/London:20181113T193000
DTEND;TZID=Europe/London:20181113T210000
DTSTAMP:20260421T071550
CREATED:20180109T120620Z
LAST-MODIFIED:20180109T120620Z
UID:4746-1542137400-1542142800@www.liskeard.gov.uk
SUMMARY:Planning Committee
DESCRIPTION:
URL:https://www.liskeard.gov.uk/event/planning-committee-10/
LOCATION:Emily Hobhouse Room at the Public Hall\, 3-5 West Street\, Liskeard\, PL14 6BW
ORGANIZER;CN="Yvette Hayward%2C Deputy Town Clerk & RFO":MAILTO:office1@liskeard.gov.uk
END:VEVENT
BEGIN:VEVENT
DTSTART;TZID=Europe/London:20181120T193000
DTEND;TZID=Europe/London:20181120T210000
DTSTAMP:20260421T071550
CREATED:20180115T104043Z
LAST-MODIFIED:20180115T122429Z
UID:4805-1542742200-1542747600@www.liskeard.gov.uk
SUMMARY:Facilities Committee
DESCRIPTION:
URL:https://www.liskeard.gov.uk/event/facilities-committee-6/
LOCATION:Council Chamber at the Public Hall\, 3-5 West Street\, Liskeard\, PL14 6BW
ORGANIZER;CN="Jacqui Orange%2C Facilities Manager":MAILTO:facilities@liskeard.gov.uk
END:VEVENT
BEGIN:VEVENT
DTSTART;TZID=Europe/London:20181127T193000
DTEND;TZID=Europe/London:20181127T210000
DTSTAMP:20260421T071550
CREATED:20180115T110134Z
LAST-MODIFIED:20180115T122520Z
UID:4822-1543347000-1543352400@www.liskeard.gov.uk
SUMMARY:Finance and General Purposes Committee
DESCRIPTION:
URL:https://www.liskeard.gov.uk/event/finance-and-general-purposes-committee-4/
LOCATION:Council Chamber at the Public Hall\, 3-5 West Street\, Liskeard\, PL14 6BW
ORGANIZER;CN="Steve Vinson%2C Town Clerk":MAILTO:townclerk@liskeard.gov.uk
END:VEVENT
END:VCALENDAR