BEGIN:VCALENDAR
VERSION:2.0
PRODID:-//Liskeard Council - ECPv6.15.18//NONSGML v1.0//EN
CALSCALE:GREGORIAN
METHOD:PUBLISH
X-WR-CALNAME:Liskeard Council
X-ORIGINAL-URL:https://www.liskeard.gov.uk
X-WR-CALDESC:Events for Liskeard Council
REFRESH-INTERVAL;VALUE=DURATION:PT1H
X-Robots-Tag:noindex
X-PUBLISHED-TTL:PT1H
BEGIN:VTIMEZONE
TZID:Europe/London
BEGIN:DAYLIGHT
TZOFFSETFROM:+0000
TZOFFSETTO:+0100
TZNAME:BST
DTSTART:20170326T010000
END:DAYLIGHT
BEGIN:STANDARD
TZOFFSETFROM:+0100
TZOFFSETTO:+0000
TZNAME:GMT
DTSTART:20171029T010000
END:STANDARD
BEGIN:DAYLIGHT
TZOFFSETFROM:+0000
TZOFFSETTO:+0100
TZNAME:BST
DTSTART:20180325T010000
END:DAYLIGHT
BEGIN:STANDARD
TZOFFSETFROM:+0100
TZOFFSETTO:+0000
TZNAME:GMT
DTSTART:20181028T010000
END:STANDARD
BEGIN:DAYLIGHT
TZOFFSETFROM:+0000
TZOFFSETTO:+0100
TZNAME:BST
DTSTART:20190331T010000
END:DAYLIGHT
BEGIN:STANDARD
TZOFFSETFROM:+0100
TZOFFSETTO:+0000
TZNAME:GMT
DTSTART:20191027T010000
END:STANDARD
END:VTIMEZONE
BEGIN:VEVENT
DTSTART;TZID=Europe/London:20180501T193000
DTEND;TZID=Europe/London:20180501T210000
DTSTAMP:20260421T162635
CREATED:20180104T105048Z
LAST-MODIFIED:20180104T111057Z
UID:4691-1525203000-1525208400@www.liskeard.gov.uk
SUMMARY:Communication & Engagement Committee
DESCRIPTION:
URL:https://www.liskeard.gov.uk/event/communications-engagement-committee/
LOCATION:Emily Hobhouse Room at the Public Hall\, 3-5 West Street\, Liskeard\, PL14 6BW
ORGANIZER;CN="Yvette Hayward%2C Deputy Town Clerk & RFO":MAILTO:office1@liskeard.gov.uk
END:VEVENT
BEGIN:VEVENT
DTSTART;TZID=Europe/London:20180508T193000
DTEND;TZID=Europe/London:20180508T210000
DTSTAMP:20260421T162635
CREATED:20180104T122725Z
LAST-MODIFIED:20180104T122725Z
UID:4711-1525807800-1525813200@www.liskeard.gov.uk
SUMMARY:Planning Committee
DESCRIPTION:
URL:https://www.liskeard.gov.uk/event/planning-committee/
LOCATION:Emily Hobhouse Room at the Public Hall\, 3-5 West Street\, Liskeard\, PL14 6BW
ORGANIZER;CN="Yvette Hayward%2C Deputy Town Clerk & RFO":MAILTO:office1@liskeard.gov.uk
END:VEVENT
BEGIN:VEVENT
DTSTART;TZID=Europe/London:20180515T193000
DTEND;TZID=Europe/London:20180515T210000
DTSTAMP:20260421T162635
CREATED:20180115T103328Z
LAST-MODIFIED:20180115T103328Z
UID:4799-1526412600-1526418000@www.liskeard.gov.uk
SUMMARY:Facilities Committee
DESCRIPTION:
URL:https://www.liskeard.gov.uk/event/facilities-committee-3/
LOCATION:Emily Hobhouse Room at the Public Hall\, 3-5 West Street\, Liskeard\, PL14 6BW
ORGANIZER;CN="Jacqui Orange%2C Facilities Manager":MAILTO:facilities@liskeard.gov.uk
END:VEVENT
BEGIN:VEVENT
DTSTART;TZID=Europe/London:20180516T190000
DTEND;TZID=Europe/London:20180516T213000
DTSTAMP:20260421T162635
CREATED:20180115T104833Z
LAST-MODIFIED:20180516T091707Z
UID:4813-1526497200-1526506200@www.liskeard.gov.uk
SUMMARY:Mayor Choosing
DESCRIPTION:
URL:https://www.liskeard.gov.uk/event/mayor-choosing-2/
LOCATION:The Public Hall\, 3-5 West Street\, Liskeard\, PL14 6BW\, United Kingdom
ORGANIZER;CN="Steve Vinson%2C Town Clerk":MAILTO:townclerk@liskeard.gov.uk
END:VEVENT
BEGIN:VEVENT
DTSTART;TZID=Europe/London:20180522T193000
DTEND;TZID=Europe/London:20180522T210000
DTSTAMP:20260421T162635
CREATED:20180115T105640Z
LAST-MODIFIED:20180115T113439Z
UID:4816-1527017400-1527022800@www.liskeard.gov.uk
SUMMARY:Finance and General Purposes Committee
DESCRIPTION:
URL:https://www.liskeard.gov.uk/event/finance-and-general-purposes-committee/
LOCATION:Council Chamber at the Public Hall\, 3-5 West Street\, Liskeard\, PL14 6BW
ORGANIZER;CN="Steve Vinson%2C Town Clerk":MAILTO:townclerk@liskeard.gov.uk
END:VEVENT
BEGIN:VEVENT
DTSTART;TZID=Europe/London:20180529T193000
DTEND;TZID=Europe/London:20180529T210000
DTSTAMP:20260421T162635
CREATED:20180109T115309Z
LAST-MODIFIED:20180109T115309Z
UID:4730-1527622200-1527627600@www.liskeard.gov.uk
SUMMARY:Planning Committee
DESCRIPTION:
URL:https://www.liskeard.gov.uk/event/planning-committee-2/
LOCATION:Emily Hobhouse Room at the Public Hall\, 3-5 West Street\, Liskeard\, PL14 6BW
ORGANIZER;CN="Yvette Hayward%2C Deputy Town Clerk & RFO":MAILTO:office1@liskeard.gov.uk
END:VEVENT
END:VCALENDAR