BEGIN:VCALENDAR
VERSION:2.0
PRODID:-//Liskeard Council - ECPv6.15.18//NONSGML v1.0//EN
CALSCALE:GREGORIAN
METHOD:PUBLISH
X-WR-CALNAME:Liskeard Council
X-ORIGINAL-URL:https://www.liskeard.gov.uk
X-WR-CALDESC:Events for Liskeard Council
REFRESH-INTERVAL;VALUE=DURATION:PT1H
X-Robots-Tag:noindex
X-PUBLISHED-TTL:PT1H
BEGIN:VTIMEZONE
TZID:Europe/London
BEGIN:DAYLIGHT
TZOFFSETFROM:+0000
TZOFFSETTO:+0100
TZNAME:BST
DTSTART:20170326T010000
END:DAYLIGHT
BEGIN:STANDARD
TZOFFSETFROM:+0100
TZOFFSETTO:+0000
TZNAME:GMT
DTSTART:20171029T010000
END:STANDARD
BEGIN:DAYLIGHT
TZOFFSETFROM:+0000
TZOFFSETTO:+0100
TZNAME:BST
DTSTART:20180325T010000
END:DAYLIGHT
BEGIN:STANDARD
TZOFFSETFROM:+0100
TZOFFSETTO:+0000
TZNAME:GMT
DTSTART:20181028T010000
END:STANDARD
BEGIN:DAYLIGHT
TZOFFSETFROM:+0000
TZOFFSETTO:+0100
TZNAME:BST
DTSTART:20190331T010000
END:DAYLIGHT
BEGIN:STANDARD
TZOFFSETFROM:+0100
TZOFFSETTO:+0000
TZNAME:GMT
DTSTART:20191027T010000
END:STANDARD
END:VTIMEZONE
BEGIN:VEVENT
DTSTART;TZID=Europe/London:20180305T193000
DTEND;TZID=Europe/London:20180305T203000
DTSTAMP:20260421T193440
CREATED:20170330T092531Z
LAST-MODIFIED:20170614T115431Z
UID:3421-1520278200-1520281800@www.liskeard.gov.uk
SUMMARY:Planning Committee Meeting
DESCRIPTION:
URL:https://www.liskeard.gov.uk/event/planning-committee-meeting-19/
LOCATION:Emily Hobhouse Room at the Public Hall\, 3-5 West Street\, Liskeard\, PL14 6BW
ORGANIZER;CN="Yvette Hayward%2C Deputy Town Clerk & RFO":MAILTO:office1@liskeard.gov.uk
END:VEVENT
BEGIN:VEVENT
DTSTART;TZID=Europe/London:20180306T193000
DTEND;TZID=Europe/London:20180306T210000
DTSTAMP:20260421T193440
CREATED:20170331T103527Z
LAST-MODIFIED:20170614T115608Z
UID:3472-1520364600-1520370000@www.liskeard.gov.uk
SUMMARY:Communications & Engagement Committee Meeting
DESCRIPTION:
URL:https://www.liskeard.gov.uk/event/communications-engagement-committee-meeting-7/
LOCATION:Emily Hobhouse Room at the Public Hall\, 3-5 West Street\, Liskeard\, PL14 6BW
ORGANIZER;CN="Yvette Hayward%2C Deputy Town Clerk & RFO":MAILTO:office1@liskeard.gov.uk
END:VEVENT
BEGIN:VEVENT
DTSTART;TZID=Europe/London:20180313T193000
DTEND;TZID=Europe/London:20180313T210000
DTSTAMP:20260421T193440
CREATED:20170331T102615Z
LAST-MODIFIED:20170614T115731Z
UID:3460-1520969400-1520974800@www.liskeard.gov.uk
SUMMARY:Facilities Committee Meeting
DESCRIPTION:
URL:https://www.liskeard.gov.uk/event/facilities-committee-meeting-5/
LOCATION:Council Chamber at the Public Hall\, 3-5 West Street\, Liskeard\, PL14 6BW
ORGANIZER;CN="Jacqui Orange%2C Facilities Manager":MAILTO:facilities@liskeard.gov.uk
END:VEVENT
BEGIN:VEVENT
DTSTART;TZID=Europe/London:20180320T193000
DTEND;TZID=Europe/London:20180320T210000
DTSTAMP:20260421T193440
CREATED:20170331T095222Z
LAST-MODIFIED:20170614T120058Z
UID:3447-1521574200-1521579600@www.liskeard.gov.uk
SUMMARY:Finance & General Purposes Committee Meeting
DESCRIPTION:
URL:https://www.liskeard.gov.uk/event/finance-general-purposes-committee-meeting-7/
LOCATION:Council Chamber at the Public Hall\, 3-5 West Street\, Liskeard\, PL14 6BW
ORGANIZER;CN="Steve Vinson%2C Town Clerk":MAILTO:townclerk@liskeard.gov.uk
END:VEVENT
BEGIN:VEVENT
DTSTART;TZID=Europe/London:20180327T193000
DTEND;TZID=Europe/London:20180327T203000
DTSTAMP:20260421T193440
CREATED:20170330T092624Z
LAST-MODIFIED:20170614T120306Z
UID:3423-1522179000-1522182600@www.liskeard.gov.uk
SUMMARY:Planning Committee Meeting
DESCRIPTION:
URL:https://www.liskeard.gov.uk/event/planning-committee-meeting-20/
LOCATION:Emily Hobhouse Room at the Public Hall\, 3-5 West Street\, Liskeard\, PL14 6BW
ORGANIZER;CN="Yvette Hayward%2C Deputy Town Clerk & RFO":MAILTO:office1@liskeard.gov.uk
END:VEVENT
END:VCALENDAR