BEGIN:VCALENDAR
VERSION:2.0
PRODID:-//Liskeard Council - ECPv6.15.18//NONSGML v1.0//EN
CALSCALE:GREGORIAN
METHOD:PUBLISH
X-WR-CALNAME:Liskeard Council
X-ORIGINAL-URL:https://www.liskeard.gov.uk
X-WR-CALDESC:Events for Liskeard Council
REFRESH-INTERVAL;VALUE=DURATION:PT1H
X-Robots-Tag:noindex
X-PUBLISHED-TTL:PT1H
BEGIN:VTIMEZONE
TZID:Europe/London
BEGIN:DAYLIGHT
TZOFFSETFROM:+0000
TZOFFSETTO:+0100
TZNAME:BST
DTSTART:20160327T010000
END:DAYLIGHT
BEGIN:STANDARD
TZOFFSETFROM:+0100
TZOFFSETTO:+0000
TZNAME:GMT
DTSTART:20161030T010000
END:STANDARD
BEGIN:DAYLIGHT
TZOFFSETFROM:+0000
TZOFFSETTO:+0100
TZNAME:BST
DTSTART:20170326T010000
END:DAYLIGHT
BEGIN:STANDARD
TZOFFSETFROM:+0100
TZOFFSETTO:+0000
TZNAME:GMT
DTSTART:20171029T010000
END:STANDARD
BEGIN:DAYLIGHT
TZOFFSETFROM:+0000
TZOFFSETTO:+0100
TZNAME:BST
DTSTART:20180325T010000
END:DAYLIGHT
BEGIN:STANDARD
TZOFFSETFROM:+0100
TZOFFSETTO:+0000
TZNAME:GMT
DTSTART:20181028T010000
END:STANDARD
END:VTIMEZONE
BEGIN:VEVENT
DTSTART;TZID=Europe/London:20170704T193000
DTEND;TZID=Europe/London:20170704T210000
DTSTAMP:20260422T071911
CREATED:20170331T102934Z
LAST-MODIFIED:20170605T105706Z
UID:3464-1499196600-1499202000@www.liskeard.gov.uk
SUMMARY:Communications & Engagement Committee Meeting
DESCRIPTION:
URL:https://www.liskeard.gov.uk/event/communications-engagement-committee-meeting-3/
LOCATION:Emily Hobhouse Room at the Public Hall\, 3-5 West Street\, Liskeard\, PL14 6BW
ORGANIZER;CN="Yvette Hayward%2C Deputy Town Clerk & RFO":MAILTO:office1@liskeard.gov.uk
END:VEVENT
BEGIN:VEVENT
DTSTART;TZID=Europe/London:20170708T080000
DTEND;TZID=Europe/London:20170708T170000
DTSTAMP:20260422T071911
CREATED:20170331T110721Z
LAST-MODIFIED:20170331T110721Z
UID:3484-1499500800-1499533200@www.liskeard.gov.uk
SUMMARY:Liskeard Show
DESCRIPTION:
URL:https://www.liskeard.gov.uk/event/liskeard-show-2/
END:VEVENT
BEGIN:VEVENT
DTSTART;TZID=Europe/London:20170711T193000
DTEND;TZID=Europe/London:20170711T203000
DTSTAMP:20260422T071911
CREATED:20170330T090316Z
LAST-MODIFIED:20170614T113303Z
UID:3397-1499801400-1499805000@www.liskeard.gov.uk
SUMMARY:Planning Committee Meeting
DESCRIPTION:
URL:https://www.liskeard.gov.uk/event/planning-committee-meeting-8/
LOCATION:Emily Hobhouse Room at the Public Hall\, 3-5 West Street\, Liskeard\, PL14 6BW
ORGANIZER;CN="Yvette Hayward%2C Deputy Town Clerk & RFO":MAILTO:office1@liskeard.gov.uk
END:VEVENT
BEGIN:VEVENT
DTSTART;TZID=Europe/London:20170718T193000
DTEND;TZID=Europe/London:20170718T210000
DTSTAMP:20260422T071911
CREATED:20170331T102138Z
LAST-MODIFIED:20170605T110034Z
UID:3452-1500406200-1500411600@www.liskeard.gov.uk
SUMMARY:Facilities Committee
DESCRIPTION:
URL:https://www.liskeard.gov.uk/event/facilities-committee-2/
LOCATION:Council Chamber at the Public Hall\, 3-5 West Street\, Liskeard\, PL14 6BW
ORGANIZER;CN="Jacqui Orange%2C Facilities Manager":MAILTO:facilities@liskeard.gov.uk
END:VEVENT
BEGIN:VEVENT
DTSTART;TZID=Europe/London:20170725T193000
DTEND;TZID=Europe/London:20170725T210000
DTSTAMP:20260422T071911
CREATED:20170331T094533Z
LAST-MODIFIED:20170605T110146Z
UID:3439-1501011000-1501016400@www.liskeard.gov.uk
SUMMARY:Finance & General Purposes Committee Meeting
DESCRIPTION:
URL:https://www.liskeard.gov.uk/event/finance-general-purposes-committee-meeting-3/
LOCATION:Council Chamber at the Public Hall\, 3-5 West Street\, Liskeard\, PL14 6BW
ORGANIZER;CN="Steve Vinson%2C Town Clerk":MAILTO:townclerk@liskeard.gov.uk
END:VEVENT
END:VCALENDAR