BEGIN:VCALENDAR
VERSION:2.0
PRODID:-//Liskeard Council - ECPv6.15.18//NONSGML v1.0//EN
CALSCALE:GREGORIAN
METHOD:PUBLISH
X-ORIGINAL-URL:https://www.liskeard.gov.uk
X-WR-CALDESC:Events for Liskeard Council
REFRESH-INTERVAL;VALUE=DURATION:PT1H
X-Robots-Tag:noindex
X-PUBLISHED-TTL:PT1H
BEGIN:VTIMEZONE
TZID:Europe/London
BEGIN:DAYLIGHT
TZOFFSETFROM:+0000
TZOFFSETTO:+0100
TZNAME:BST
DTSTART:20160327T010000
END:DAYLIGHT
BEGIN:STANDARD
TZOFFSETFROM:+0100
TZOFFSETTO:+0000
TZNAME:GMT
DTSTART:20161030T010000
END:STANDARD
BEGIN:DAYLIGHT
TZOFFSETFROM:+0000
TZOFFSETTO:+0100
TZNAME:BST
DTSTART:20170326T010000
END:DAYLIGHT
BEGIN:STANDARD
TZOFFSETFROM:+0100
TZOFFSETTO:+0000
TZNAME:GMT
DTSTART:20171029T010000
END:STANDARD
BEGIN:DAYLIGHT
TZOFFSETFROM:+0000
TZOFFSETTO:+0100
TZNAME:BST
DTSTART:20180325T010000
END:DAYLIGHT
BEGIN:STANDARD
TZOFFSETFROM:+0100
TZOFFSETTO:+0000
TZNAME:GMT
DTSTART:20181028T010000
END:STANDARD
END:VTIMEZONE
BEGIN:VEVENT
DTSTART;TZID=Europe/London:20170601T190000
DTEND;TZID=Europe/London:20170601T210000
DTSTAMP:20260422T084425
CREATED:20170331T102817Z
LAST-MODIFIED:20170331T102817Z
UID:3462-1496343600-1496350800@www.liskeard.gov.uk
SUMMARY:Communications & Engagement Committee Meeting
DESCRIPTION:
URL:https://www.liskeard.gov.uk/event/communications-engagement-committee-meeting-2/
LOCATION:Emily Hobhouse Room at the Public Hall\, 3-5 West Street\, Liskeard\, PL14 6BW
ORGANIZER;CN="Yvette Hayward%2C Deputy Town Clerk & RFO":MAILTO:office1@liskeard.gov.uk
END:VEVENT
BEGIN:VEVENT
DTSTART;TZID=Europe/London:20170606T193000
DTEND;TZID=Europe/London:20170606T210000
DTSTAMP:20260422T084425
CREATED:20170426T142542Z
LAST-MODIFIED:20170426T142542Z
UID:3583-1496777400-1496782800@www.liskeard.gov.uk
SUMMARY:Full Council - Special Meeting
DESCRIPTION:In the Long Room at the Public Hall
URL:https://www.liskeard.gov.uk/event/full-council-special-meeting/
END:VEVENT
BEGIN:VEVENT
DTSTART;TZID=Europe/London:20170611T103000
DTEND;TZID=Europe/London:20170611T123000
DTSTAMP:20260422T084425
CREATED:20170331T110236Z
LAST-MODIFIED:20170331T110236Z
UID:3480-1497177000-1497184200@www.liskeard.gov.uk
SUMMARY:Civic Parade and Service
DESCRIPTION:
URL:https://www.liskeard.gov.uk/event/civic-parade-and-service/
END:VEVENT
BEGIN:VEVENT
DTSTART;TZID=Europe/London:20170613T193000
DTEND;TZID=Europe/London:20170613T210000
DTSTAMP:20260422T084425
CREATED:20170331T102044Z
LAST-MODIFIED:20170605T105213Z
UID:3450-1497382200-1497387600@www.liskeard.gov.uk
SUMMARY:Facilities Committee
DESCRIPTION:
URL:https://www.liskeard.gov.uk/event/facilities-committee/
LOCATION:Council Chamber at the Public Hall\, 3-5 West Street\, Liskeard\, PL14 6BW
ORGANIZER;CN="Jacqui Orange%2C Facilities Manager":MAILTO:facilities@liskeard.gov.uk
END:VEVENT
BEGIN:VEVENT
DTSTART;TZID=Europe/London:20170620T193000
DTEND;TZID=Europe/London:20170620T203000
DTSTAMP:20260422T084425
CREATED:20170330T090140Z
LAST-MODIFIED:20170614T113145Z
UID:3395-1497987000-1497990600@www.liskeard.gov.uk
SUMMARY:Planning Committee Meeting
DESCRIPTION:
URL:https://www.liskeard.gov.uk/event/planning-committee-meeting-7/
LOCATION:Emily Hobhouse Room at the Public Hall\, 3-5 West Street\, Liskeard\, PL14 6BW
ORGANIZER;CN="Yvette Hayward%2C Deputy Town Clerk & RFO":MAILTO:office1@liskeard.gov.uk
END:VEVENT
BEGIN:VEVENT
DTSTART;TZID=Europe/London:20170627T193000
DTEND;TZID=Europe/London:20170627T210000
DTSTAMP:20260422T084425
CREATED:20170331T090809Z
LAST-MODIFIED:20170605T105359Z
UID:3426-1498591800-1498597200@www.liskeard.gov.uk
SUMMARY:Full Town Council Meeting
DESCRIPTION:Members of the public welcome.
URL:https://www.liskeard.gov.uk/event/full-town-council-meeting-3/
LOCATION:Emily Hobhouse Room at the Public Hall\, 3-5 West Street\, Liskeard\, PL14 6BW
ORGANIZER;CN="Steve Vinson%2C Town Clerk":MAILTO:townclerk@liskeard.gov.uk
END:VEVENT
BEGIN:VEVENT
DTSTART;TZID=Europe/London:20170628T193000
DTEND;TZID=Europe/London:20170628T203000
DTSTAMP:20260422T084425
CREATED:20170331T112311Z
LAST-MODIFIED:20170331T112311Z
UID:3492-1498678200-1498681800@www.liskeard.gov.uk
SUMMARY:Town Forum Meeting
DESCRIPTION:
URL:https://www.liskeard.gov.uk/event/town-forum-meeting/
ORGANIZER;CN="Liskeard Town Forum":MAILTO:info@liskeardforum.org.uk
END:VEVENT
END:VCALENDAR