BEGIN:VCALENDAR
VERSION:2.0
PRODID:-//Liskeard Council - ECPv6.15.18//NONSGML v1.0//EN
CALSCALE:GREGORIAN
METHOD:PUBLISH
X-WR-CALNAME:Liskeard Council
X-ORIGINAL-URL:https://www.liskeard.gov.uk
X-WR-CALDESC:Events for Liskeard Council
REFRESH-INTERVAL;VALUE=DURATION:PT1H
X-Robots-Tag:noindex
X-PUBLISHED-TTL:PT1H
BEGIN:VTIMEZONE
TZID:Europe/London
BEGIN:DAYLIGHT
TZOFFSETFROM:+0000
TZOFFSETTO:+0100
TZNAME:BST
DTSTART:20160327T010000
END:DAYLIGHT
BEGIN:STANDARD
TZOFFSETFROM:+0100
TZOFFSETTO:+0000
TZNAME:GMT
DTSTART:20161030T010000
END:STANDARD
BEGIN:DAYLIGHT
TZOFFSETFROM:+0000
TZOFFSETTO:+0100
TZNAME:BST
DTSTART:20170326T010000
END:DAYLIGHT
BEGIN:STANDARD
TZOFFSETFROM:+0100
TZOFFSETTO:+0000
TZNAME:GMT
DTSTART:20171029T010000
END:STANDARD
BEGIN:DAYLIGHT
TZOFFSETFROM:+0000
TZOFFSETTO:+0100
TZNAME:BST
DTSTART:20180325T010000
END:DAYLIGHT
BEGIN:STANDARD
TZOFFSETFROM:+0100
TZOFFSETTO:+0000
TZNAME:GMT
DTSTART:20181028T010000
END:STANDARD
END:VTIMEZONE
BEGIN:VEVENT
DTSTART;TZID=Europe/London:20170405T193000
DTEND;TZID=Europe/London:20170405T193000
DTSTAMP:20260422T111533
CREATED:20170331T112135Z
LAST-MODIFIED:20170331T112135Z
UID:3490-1491420600-1491420600@www.liskeard.gov.uk
SUMMARY:Liskeard Town Forum
DESCRIPTION:
URL:https://www.liskeard.gov.uk/event/liskeard-town-forum-3/
LOCATION:Council Chamber at the Public Hall\, 3-5 West Street\, Liskeard\, PL14 6BW
ORGANIZER;CN="Liskeard Town Forum":MAILTO:info@liskeardforum.org.uk
END:VEVENT
BEGIN:VEVENT
DTSTART;TZID=Europe/London:20170418T190000
DTEND;TZID=Europe/London:20170418T200000
DTSTAMP:20260422T111533
CREATED:20170202T115755Z
LAST-MODIFIED:20170202T121912Z
UID:3188-1492542000-1492545600@www.liskeard.gov.uk
SUMMARY:Planning Committee Meeting
DESCRIPTION:Members of the public welcome.
URL:https://www.liskeard.gov.uk/event/planning-committee-meeting-4/
LOCATION:Emily Hobhouse Room at the Public Hall\, 3-5 West Street\, Liskeard\, PL14 6BW
ORGANIZER;CN="Yvette Hayward%2C Deputy Town Clerk & RFO":MAILTO:office1@liskeard.gov.uk
END:VEVENT
BEGIN:VEVENT
DTSTART;TZID=Europe/London:20170420T183000
DTEND;TZID=Europe/London:20170420T203000
DTSTAMP:20260422T111533
CREATED:20170331T103802Z
LAST-MODIFIED:20170419T112002Z
UID:3476-1492713000-1492720200@www.liskeard.gov.uk
SUMMARY:Annual Town Meeting
DESCRIPTION:
URL:https://www.liskeard.gov.uk/event/annual-town-meeting/
LOCATION:Council Chamber at the Public Hall\, 3-5 West Street\, Liskeard\, PL14 6BW
ORGANIZER;CN="Steve Vinson%2C Town Clerk":MAILTO:townclerk@liskeard.gov.uk
END:VEVENT
BEGIN:VEVENT
DTSTART;TZID=Europe/London:20170423T110000
DTEND;TZID=Europe/London:20170423T120000
DTSTAMP:20260422T111533
CREATED:20170407T091523Z
LAST-MODIFIED:20170407T091700Z
UID:3511-1492945200-1492948800@www.liskeard.gov.uk
SUMMARY:Roman Catholic Civic Service\, Liskeard
DESCRIPTION:
URL:https://www.liskeard.gov.uk/event/roman-catholic-civic-service-liskeard/
END:VEVENT
BEGIN:VEVENT
DTSTART;TZID=Europe/London:20170425T190000
DTEND;TZID=Europe/London:20170425T210000
DTSTAMP:20260422T111533
CREATED:20170202T115953Z
LAST-MODIFIED:20170202T115953Z
UID:3190-1493146800-1493154000@www.liskeard.gov.uk
SUMMARY:Full Town Council Meeting
DESCRIPTION:Members of the public welcome.
URL:https://www.liskeard.gov.uk/event/full-town-council-meeting-2/
LOCATION:Emily Hobhouse Room at the Public Hall\, 3-5 West Street\, Liskeard\, PL14 6BW
ORGANIZER;CN="Steve Vinson%2C Town Clerk":MAILTO:townclerk@liskeard.gov.uk
END:VEVENT
END:VCALENDAR