BEGIN:VCALENDAR
VERSION:2.0
PRODID:-//Liskeard Council - ECPv6.15.18//NONSGML v1.0//EN
CALSCALE:GREGORIAN
METHOD:PUBLISH
X-WR-CALNAME:Liskeard Council
X-ORIGINAL-URL:https://www.liskeard.gov.uk
X-WR-CALDESC:Events for Liskeard Council
REFRESH-INTERVAL;VALUE=DURATION:PT1H
X-Robots-Tag:noindex
X-PUBLISHED-TTL:PT1H
BEGIN:VTIMEZONE
TZID:Europe/London
BEGIN:DAYLIGHT
TZOFFSETFROM:+0000
TZOFFSETTO:+0100
TZNAME:BST
DTSTART:20180325T010000
END:DAYLIGHT
BEGIN:STANDARD
TZOFFSETFROM:+0100
TZOFFSETTO:+0000
TZNAME:GMT
DTSTART:20181028T010000
END:STANDARD
BEGIN:DAYLIGHT
TZOFFSETFROM:+0000
TZOFFSETTO:+0100
TZNAME:BST
DTSTART:20190331T010000
END:DAYLIGHT
BEGIN:STANDARD
TZOFFSETFROM:+0100
TZOFFSETTO:+0000
TZNAME:GMT
DTSTART:20191027T010000
END:STANDARD
BEGIN:DAYLIGHT
TZOFFSETFROM:+0000
TZOFFSETTO:+0100
TZNAME:BST
DTSTART:20200329T010000
END:DAYLIGHT
BEGIN:STANDARD
TZOFFSETFROM:+0100
TZOFFSETTO:+0000
TZNAME:GMT
DTSTART:20201025T010000
END:STANDARD
END:VTIMEZONE
BEGIN:VEVENT
DTSTART;TZID=Europe/London:20190912T153000
DTEND;TZID=Europe/London:20190912T200000
DTSTAMP:20260420T160135
CREATED:20190911T130914Z
LAST-MODIFIED:20190911T130914Z
UID:7768-1568302200-1568318400@www.liskeard.gov.uk
SUMMARY:A Vision for Liskeard Cattle Market - Local Economy & Trader’s Workshop
DESCRIPTION:Following the Liskeard Cattle Market charrette\, a Local Economy & Trader’s Workshop will take place. The event flyer can be seen here. \n\n\n\nThis workshop is organised by JTP on behalf of Cornwall Council as part of the process to help shape the vision for the future of Liskeard Cattle Market. \nFor more information please contact the JTP Community Planning team at\ncommunity@jtp.co.uk or on Freephone 0800 0126730.
URL:https://www.liskeard.gov.uk/event/a-vision-for-liskeard-cattle-market-local-economy-traders-workshop/
LOCATION:The Public Hall\, 3-5 West Street\, Liskeard\, PL14 6BW\, United Kingdom
END:VEVENT
END:VCALENDAR